BEGIN:VCALENDAR
VERSION:2.0
PRODID:icalendar-ruby
CALSCALE:GREGORIAN
METHOD:PUBLISH
BEGIN:VEVENT
DTSTAMP:20260424T232644Z
UID:12-3566275@louisburgumc.org
DTSTART:20261101T143000Z
DTEND:20261101T152000Z
CLASS:PUBLIC
CREATED:20260424T170636
DESCRIPTION:
LAST-MODIFIED:20260424T170636
LOCATION:Louisburg United Methodist Church\, 249 N Metcalf\, Louisburg\, KS
SUMMARY:8:30 Worship Service
URL;VALUE=URI:https://www.louisburgumc.org/events/8-30-worship-service/2026
 -11-01
END:VEVENT
END:VCALENDAR
